BEGIN:VCALENDAR
VERSION:2.0
PRODID:-//wp-events-plugin.com//7.2.3.1//EN
TZID:Europe/London
X-WR-TIMEZONE:Europe/London
BEGIN:VEVENT
UID:102@the-taste-lab.co.uk
DTSTART;TZID=Europe/London:20260706T113000
DTEND;TZID=Europe/London:20260706T153000
DTSTAMP:20260414T123437Z
URL:https://www.the-taste-lab.co.uk/events/poultry-chefs-lunch-with-russel
 l-bateman/
SUMMARY:POULTRY CHEF’S LUNCH WITH RUSSELL BATEMAN
DESCRIPTION:[event]\n#_EVENTNAME\n[/event]\nWhen\n[event]#_EVENTDATES\n#_EV
 ENTTIMES\n#_EVENTADDTOCALENDAR[/event]\nWhere\n[event]THETASTELAB\n291 Abb
 ey Road\, Park Royal\, London\, London\, NW10 7SA\, London[/event]\nPlease
  note: On-site parking is not available. We recommend using nearby public 
 parking or alternative transportation. Find out more here.\n\nMap\n[event]
 Map Unavailable[/event]\n\n\nAt this event\, poultry takes centre stage as
  a refined\, versatile and profitable ingredient in the modern professiona
 l kitchen.\n\nRussell will guide guests through essential techniques for s
 electing\, breaking down and cooking birds with precision\, focusing on me
 thods that preserve flavour\, maximise yield and deliver exceptional textu
 re. From whole birds to refined cuts\, this session explores how thoughtfu
 l preparation and cooking elevate poultry to Michelin‑level standards.\n
 \nThe lunch will feature live demonstrations\, practical insights and crea
 tive inspiration\, with a strong emphasis on presentation and sauces that 
 complement rather than overpower the ingredient.
ATTACH;FMTTYPE=image/jpeg:https://www.the-taste-lab.co.uk/wp-content/uploa
 ds/2026/04/Photo-events-TTL.jpg
CATEGORIES:Events
LOCATION:THETASTELAB\, 291 Abbey Road\, Park Royal\, London\, London\, NW10
  7SA\, London\, United Kingdom
X-APPLE-STRUCTURED-LOCATION;VALUE=URI;X-ADDRESS=291 Abbey Road\, Park Royal
 \, London\, London\, NW10 7SA\, London\, United Kingdom;X-APPLE-RADIUS=100
 ;X-TITLE=THETASTELAB:geo:0,0
END:VEVENT
BEGIN:VTIMEZONE
TZID:Europe/London
X-LIC-LOCATION:Europe/London
BEGIN:DAYLIGHT
DTSTART:20260329T020000
TZOFFSETFROM:+0000
TZOFFSETTO:+0100
TZNAME:BST
END:DAYLIGHT
END:VTIMEZONE
END:VCALENDAR