BEGIN:VCALENDAR
VERSION:2.0
PRODID:-//wp-events-plugin.com//7.2.3.1//EN
TZID:Europe/London
X-WR-TIMEZONE:Europe/London
BEGIN:VEVENT
UID:101@the-taste-lab.co.uk
DTSTART;TZID=Europe/London:20260714T113000
DTEND;TZID=Europe/London:20260714T160000
DTSTAMP:20260414T114335Z
URL:https://www.the-taste-lab.co.uk/events/chefs-lunch-celebrating-ncoty-s
 emi-finalists-2026/
SUMMARY:CHEF’S LUNCH – CELEBRATING NCOTY SEMI FINALISTS 2026
DESCRIPTION:[event]#_EVENTNAME[/event]		\n					When				\n		[event]#_EVENTDA
 TES \n#_EVENTTIMES\n#_EVENTADDTOCALENDAR[/event]		\n					Where				\n		[eve
 nt]THETASTELAB291 Abbey Road\, Park Royal\, London\, London\, NW10 7SA\, L
 ondon[/event]Please note: On-site parking is not available. We recommend u
 sing nearby public parking or alternative transportation. Find out more he
 re.		\n					Map				\n		[event]Map Unavailable[/event]		\n									\n		To r
 ecognise the achievements of this year’s National Chef of the Year semi
 ‑finalists\, Angus Pure\, in partnership with Aussie Beef &amp\; Lamb\, 
 will host a dedicated Chefs’ Lunch at TheTasteLab.This event is designed
  as a moment of pause and celebration within the NCOTY calendar\, the even
 t brings chefs together for an immersive experience that blends fine food\
 , product insight and behind‑the‑scenes access.Guests will enjoy a bes
 poke two‑course lunch\, curated by Chef Russell Bateman\, created to sho
 wcase the quality and versatility of Angus Pure beef within a professional
  kitchen context.The programme also includes:A guided tour of the Classic 
 Fine Foods warehouse\, offering insight into operations\, sourcing and sca
 leA butchery demonstration led by Master Butcher Richard Sanders\, highlig
 hting Angus Pure beef cuts available as part of the NCOTY competition brie
 fAn opportunity to explore the facilities at TheTasteLab\, designed specif
 ically for chef development\, innovation and collaborationThe day will con
 clude with the announcement of the 10 finalists progressing in the 2026 Na
 tional Chef of the Year competition.		\n								
ATTACH;FMTTYPE=image/jpeg:https://www.the-taste-lab.co.uk/wp-content/uploa
 ds/2026/04/CFF_NCOTY_Angus-Pure_July-2025_155.jpg
CATEGORIES:Events
LOCATION:THETASTELAB\, 291 Abbey Road\, Park Royal\, London\, London\, NW10
  7SA\, London\, United Kingdom
X-APPLE-STRUCTURED-LOCATION;VALUE=URI;X-ADDRESS=291 Abbey Road\, Park Royal
 \, London\, London\, NW10 7SA\, London\, United Kingdom;X-APPLE-RADIUS=100
 ;X-TITLE=THETASTELAB:geo:0,0
END:VEVENT
BEGIN:VTIMEZONE
TZID:Europe/London
X-LIC-LOCATION:Europe/London
BEGIN:DAYLIGHT
DTSTART:20260329T020000
TZOFFSETFROM:+0000
TZOFFSETTO:+0100
TZNAME:BST
END:DAYLIGHT
END:VTIMEZONE
END:VCALENDAR